BEGIN:VCALENDAR
PRODID:Nexudus
VERSION:2.0
BEGIN:VTIMEZONE
TZID:Europe/Paris
X-LIC-LOCATION:Europe/Paris
BEGIN:STANDARD
DTSTART:20241027T030000
RRULE:FREQ=YEARLY;BYDAY=-1SU;BYMONTH=10
TZNAME:CET
TZOFFSETFROM:+0200
TZOFFSETTO:+0100
END:STANDARD
BEGIN:DAYLIGHT
DTSTART:20250330T020000
RRULE:FREQ=YEARLY;BYDAY=-1SU;BYMONTH=3
TZNAME:CEST
TZOFFSETFROM:+0100
TZOFFSETTO:+0200
END:DAYLIGHT
END:VTIMEZONE
BEGIN:VEVENT
DESCRIPTION:Disfruta de Estrellas en El Teatret. Espectáculo\, sensorial y
  de aprendizaje\, de teatro- danza para la infancia. Las estrellas son esf
 eroides luminosos que mantienen su forma debido a su propia gravedad. Esta
 s estrellas permanecen en el cielo en la misma posición durante nuestra v
 ida. Ese es el punto de partida\, dos hermanas comparten su infancia\, su 
 madurez y su vejez mientras las estrellas contemplan sus movimientos. \, s
 us juegos\, sus alegrías y sus penas. En una montaña rusa de emociones l
 as dos actrices hacen un recorrido por toda una vida. Una infancia donde t
 odo es nuevo y divertida\, una madurez llena de prisas y estrés donde no 
 hay tiempo para ver las estrellas y una vejez donde volvemos a conectar co
 n nuestra infancia con un gran aire de nostalgia. Estrellas es un pequeño
  montaje que a través de la manipulación de objetos\, teatro negro\, mar
 ionetas nos habla del paso del tiempo y lo efímera que es la vida.\nEvent
  link: https://teatroavanti.spaces.nexudus.com/en/events/view/1415097365/e
 strellas---el-teatret---domingo-20-noviembre--12-00-h--público-familiar\n
DTEND;TZID=Europe/Paris:20221120T190000
DTSTAMP:20260421T140232Z
DTSTART;TZID=Europe/Paris:20221120T120000
LOCATION:Teatro Avanti
SEQUENCE:0
SUMMARY:ESTRELLAS - El Teatret - Domingo 20 Noviembre (12:00 h) Público Fa
 miliar
UID:3863ff0d-ba1e-431b-80d4-8205e25fff0b
END:VEVENT
END:VCALENDAR
