BEGIN:VCALENDAR
PRODID:Nexudus
VERSION:2.0
BEGIN:VTIMEZONE
TZID:Europe/Paris
X-LIC-LOCATION:Europe/Paris
BEGIN:STANDARD
DTSTART:20241027T030000
RRULE:FREQ=YEARLY;BYDAY=-1SU;BYMONTH=10
TZNAME:CET
TZOFFSETFROM:+0200
TZOFFSETTO:+0100
END:STANDARD
BEGIN:DAYLIGHT
DTSTART:20250330T020000
RRULE:FREQ=YEARLY;BYDAY=-1SU;BYMONTH=3
TZNAME:CEST
TZOFFSETFROM:+0100
TZOFFSETTO:+0200
END:DAYLIGHT
END:VTIMEZONE
BEGIN:VEVENT
DESCRIPTION:ESTO SABE A GLORIA está enmarcada entre la celebración del ce
 ntenario del nacimiento de Gloria Fuertes (2017) y el recuerdo del XX cent
 enario de su desaparición\, y pretende reivindicar la vigencia y actualid
 ad de una de nuestras mayores “creadoras” contemporáneas de literatur
 a infantil.\nLa proyección y música de “un globo\, dos globos\, tres g
 lobos” dan inicio a la obra en  la que Las Chamanas “Katia y Selma” 
 cantan con el público el cientounaños feliz a Gloria Fuertes. Nos contar
 án algunas cosas muy interesantes de su vida y también jugarán\, con al
 gunos de los cuentos\, personajes y poemas más conocidos de la poeta: Pel
 ines\, Coleta\, Pitu Piturra\, Para pintar un niño\, Los juguetes son par
 a jugar a jugar de verdad\, etc.\n\nEvent link: https://teatroavanti.space
 s.nexudus.com/en/events/view/665856510/esto-sabe-a-gloria---cía---la-quim
 era-de-plástico--valladolid----domingo-23-septiembre-12-00-y-18-00-h-\n
DTEND;TZID=Europe/Paris:20180923T190000
DTSTAMP:20260422T165403Z
DTSTART;TZID=Europe/Paris:20180923T120000
LOCATION:Teatro Avanti
SEQUENCE:0
SUMMARY:ESTO SABE A GLORIA - Cía.: La Quimera de Plástico (Valladolid) - 
 Domingo 23 Septiembre 12:00 y 18:00 h)
UID:fe9ac65e-9700-4da4-b2b4-f7872971a391
END:VEVENT
END:VCALENDAR
