BEGIN:VCALENDAR
PRODID:Nexudus
VERSION:2.0
BEGIN:VTIMEZONE
TZID:Europe/Paris
X-LIC-LOCATION:Europe/Paris
BEGIN:STANDARD
DTSTART:20241027T030000
RRULE:FREQ=YEARLY;BYDAY=-1SU;BYMONTH=10
TZNAME:CET
TZOFFSETFROM:+0200
TZOFFSETTO:+0100
END:STANDARD
BEGIN:DAYLIGHT
DTSTART:20250330T020000
RRULE:FREQ=YEARLY;BYDAY=-1SU;BYMONTH=3
TZNAME:CEST
TZOFFSETFROM:+0100
TZOFFSETTO:+0200
END:DAYLIGHT
END:VTIMEZONE
BEGIN:VEVENT
DESCRIPTION:XV Festival de Circo de Córdoba.\n“Este País es un Circo”
  es un espectáculo delirante\, una mezcla de artes de\nartes circenses co
 n el más puro teatro de calle. Improvisación\, técnica\, pero\nsobre to
 do mucho humor. Mike es un artista inteligente y se nota mucho\ncuando des
 arrolla sus espectáculos. También tiene algo fundamental para\nalguien q
 ue se decide a ser profesional en este terreno de lo artístico: es el\nin
 stinto\, el sexto sentido\, algo que no se aprende en las escuelas.\nEvent
  link: https://teatroavanti.spaces.nexudus.com/en/events/view/1400489090/e
 ste-país-es-un-circo---aplazado\n
DTEND;TZID=Europe/Paris:20201129T140000
DTSTAMP:20260422T041301Z
DTSTART;TZID=Europe/Paris:20201129T120000
LOCATION:Teatro Avanti
SEQUENCE:0
SUMMARY:Este país es un circo - APLAZADO
UID:90abf6fd-afa2-42df-b594-d9bab9679044
END:VEVENT
END:VCALENDAR
