BEGIN:VCALENDAR
PRODID:Nexudus
VERSION:2.0
BEGIN:VTIMEZONE
TZID:Europe/Paris
X-LIC-LOCATION:Europe/Paris
BEGIN:STANDARD
DTSTART:20241027T030000
RRULE:FREQ=YEARLY;BYDAY=-1SU;BYMONTH=10
TZNAME:CET
TZOFFSETFROM:+0200
TZOFFSETTO:+0100
END:STANDARD
BEGIN:DAYLIGHT
DTSTART:20250330T020000
RRULE:FREQ=YEARLY;BYDAY=-1SU;BYMONTH=3
TZNAME:CEST
TZOFFSETFROM:+0100
TZOFFSETTO:+0200
END:DAYLIGHT
END:VTIMEZONE
BEGIN:VEVENT
DESCRIPTION:XII FESTIVAL DE CIRCO DE CÓRDOBA\nAcciones sencillas y cotidia
 nas derivan en coreografías acrobáticas excéntricas\nmediante golpes y 
 caídas caóticas contrastan con coreografías visuales\nde danza y malaba
 r. La emoción y el riesgo se suman al humor. Lo absurdo\nlo sencillo y lo
  universal están presente en las disparatadas rutinas de circo.\nCuatro p
 ersonajes\, no hablan. Están a la espera\, se sorprenden cuando se\nven\,
  pero se conocen de toda la vida. Se imitan\, juegan se divierten todos\na
  una.\nEvent link: https://teatroavanti.spaces.nexudus.com/en/events/view/
 471680218/erori--cair-circo--la-coruña---domingo-17-diciembre--12-00-y-18
 -00-horas-\n
DTEND;TZID=Europe/Paris:20171217T190000
DTSTAMP:20260422T200311Z
DTSTART;TZID=Europe/Paris:20171217T120000
LOCATION:Teatro Avanti
SEQUENCE:0
SUMMARY:Erori. Cair Circo (La Coruña). Domingo 17 Diciembre (12:00 y 18:00
  horas)
UID:cbbe031e-caa9-47a4-bda1-050072c16126
END:VEVENT
END:VCALENDAR
