BEGIN:VCALENDAR
PRODID:Nexudus
VERSION:2.0
BEGIN:VTIMEZONE
TZID:Europe/Paris
X-LIC-LOCATION:Europe/Paris
BEGIN:STANDARD
DTSTART:20241027T030000
RRULE:FREQ=YEARLY;BYDAY=-1SU;BYMONTH=10
TZNAME:CET
TZOFFSETFROM:+0200
TZOFFSETTO:+0100
END:STANDARD
BEGIN:DAYLIGHT
DTSTART:20250330T020000
RRULE:FREQ=YEARLY;BYDAY=-1SU;BYMONTH=3
TZNAME:CEST
TZOFFSETFROM:+0100
TZOFFSETTO:+0200
END:DAYLIGHT
END:VTIMEZONE
BEGIN:VEVENT
DESCRIPTION:El Jardín Mágico nos presenta su nueva producción de magia f
 amiliar Erase una vez\, No es un cuento al uso\, es un cuento de cuentos\,
  dándoles una vuelta de tuerca más a todas esas historias de nuestra inf
 ancia\, narrado por un personaje principal\, el mago Frank Pacheco que com
 ienza acompañado por una voz en OFF (su propia madre)\, la encargada de c
 ontar esta maravillosa historia de nuestros personajes favoritos\, en un e
 mplazamiento mágico. En esta historia volaremos como Aladín en la alfomb
 ra mágica o haremos nieve como Elsa la princesa de Arandel\, pasando por 
 las cocinas de Ratatouille o sintiendo la magia de las hadas de Peter Pan\
 , todo esto narrado en su lugar favorito\, el circo de Dumbo. Contado en c
 lave de humor\, con mucha música\, muchos bailes y sobre todo mucha magia
 \, hace de Érase una vez un espectáculo idóneo para toda la familia. En
  el redescubriremos a nuestros personajes favoritos y conoceremos a unos n
 uevos personajes como son\, el Mago Frank y sus tres ayudantes\, que nos h
 arán pasar una velada inolvidable\, donde los más pequeños serán los p
 rotagonistas de los cuentos..\nEvent link: https://teatroavanti.spaces.nex
 udus.com/en/events/view/1415100493/erase-una-vez------frank-pacheco---domi
 ngo-6-noviembre--12-00-h--público-familiar\n
DTEND;TZID=Europe/Paris:20221106T130000
DTSTAMP:20260421T140624Z
DTSTART;TZID=Europe/Paris:20221106T120000
LOCATION:Teatro Avanti
SEQUENCE:0
SUMMARY:ERASE UNA VEZ... - Frank Pacheco - Domingo 6 Noviembre (12:00 h) P
 úblico Familiar
UID:1f04bb94-8c21-41da-b978-f6f233c7ad72
END:VEVENT
END:VCALENDAR
