BEGIN:VCALENDAR
PRODID:Nexudus
VERSION:2.0
BEGIN:VTIMEZONE
TZID:Europe/Paris
X-LIC-LOCATION:Europe/Paris
BEGIN:STANDARD
DTSTART:20241027T030000
RRULE:FREQ=YEARLY;BYDAY=-1SU;BYMONTH=10
TZNAME:CET
TZOFFSETFROM:+0200
TZOFFSETTO:+0100
END:STANDARD
BEGIN:DAYLIGHT
DTSTART:20250330T020000
RRULE:FREQ=YEARLY;BYDAY=-1SU;BYMONTH=3
TZNAME:CEST
TZOFFSETFROM:+0100
TZOFFSETTO:+0200
END:DAYLIGHT
END:VTIMEZONE
BEGIN:VEVENT
DESCRIPTION:\nEvent link: https://teatroavanti.spaces.nexudus.com/en/events
 /view/1414923667/equipo-wonderlan---miercoles-9-junio--17-00-h--entrada-li
 bre-hasta-completar-aforo-\n
DTEND;TZID=Europe/Paris:20210609T170000
DTSTAMP:20260421T234522Z
DTSTART;TZID=Europe/Paris:20210609T080000
LOCATION:Teatro Avanti
SEQUENCE:0
SUMMARY:EQUIPO WONDERLAN - Miercoles 9 Junio (17:00 h) Entrada libre hasta 
 completar aforo.
UID:1fe98f26-f9c1-48e7-b369-86f2bd95f5df
END:VEVENT
END:VCALENDAR
