BEGIN:VCALENDAR
PRODID:Nexudus
VERSION:2.0
BEGIN:VTIMEZONE
TZID:Europe/Paris
X-LIC-LOCATION:Europe/Paris
BEGIN:STANDARD
DTSTART:20241027T030000
RRULE:FREQ=YEARLY;BYDAY=-1SU;BYMONTH=10
TZNAME:CET
TZOFFSETFROM:+0200
TZOFFSETTO:+0100
END:STANDARD
BEGIN:DAYLIGHT
DTSTART:20250330T020000
RRULE:FREQ=YEARLY;BYDAY=-1SU;BYMONTH=3
TZNAME:CEST
TZOFFSETFROM:+0100
TZOFFSETTO:+0200
END:DAYLIGHT
END:VTIMEZONE
BEGIN:VEVENT
DESCRIPTION:Disfruta del los trabajos que los alumnos/as de nuestras Escuel
 as de Teatro\, Música\, Danza y Magia os ha preparado.\nDel 20 de Mayo al
  25 de Junio en TEATRO AVANTI. (Entrada Libre hasta completar aforo)\nEven
 t link: https://teatroavanti.spaces.nexudus.com/en/events/view/388030650/e
 quipo-hermanos-grimm-10-a-13-años--12-junio--lunes-20-00-horas----entrada
 -libre-hasta-completar-aforo-\n
DTEND;TZID=Europe/Paris:20170612T200000
DTSTAMP:20260422T225544Z
DTSTART;TZID=Europe/Paris:20170612T200000
LOCATION:Teatro Avanti
SEQUENCE:0
SUMMARY:EQUIPO HERMANOS GRIMM 10 A 13 AÑOS -12 JUNIO- LUNES 20.00 HORAS - 
 (Entrada Libre hasta completar aforo)
UID:2bdbaac4-44cc-4287-ba90-cdaaa732460d
END:VEVENT
END:VCALENDAR
