BEGIN:VCALENDAR
PRODID:Nexudus
VERSION:2.0
BEGIN:VTIMEZONE
TZID:Europe/Paris
X-LIC-LOCATION:Europe/Paris
BEGIN:STANDARD
DTSTART:20241027T030000
RRULE:FREQ=YEARLY;BYDAY=-1SU;BYMONTH=10
TZNAME:CET
TZOFFSETFROM:+0200
TZOFFSETTO:+0100
END:STANDARD
BEGIN:DAYLIGHT
DTSTART:20250330T020000
RRULE:FREQ=YEARLY;BYDAY=-1SU;BYMONTH=3
TZNAME:CEST
TZOFFSETFROM:+0100
TZOFFSETTO:+0200
END:DAYLIGHT
END:VTIMEZONE
BEGIN:VEVENT
DESCRIPTION:Muestra de las Escuelas de Teatro\, Música\, Danza\, Payasos y
  Magia.\nENTRADA GRATUITA (Hasta completar aforo).\nEvent link: https://te
 atroavanti.spaces.nexudus.com/en/events/view/1026790780/equipo-hermanos-gr
 imm--lunes-10-junio--19-00-horas-\n
DTEND;TZID=Europe/Paris:20190610T200000
DTSTAMP:20260422T115659Z
DTSTART;TZID=Europe/Paris:20190610T190000
LOCATION:Teatro Avanti
SEQUENCE:0
SUMMARY:EQUIPO HERMANOS GRIMM. Lunes 10 Junio (19:00 horas)
UID:7da93671-675e-4dad-8f61-65fa2af7f5ac
END:VEVENT
END:VCALENDAR
