BEGIN:VCALENDAR
PRODID:Nexudus
VERSION:2.0
BEGIN:VTIMEZONE
TZID:Europe/Paris
X-LIC-LOCATION:Europe/Paris
BEGIN:STANDARD
DTSTART:20241027T030000
RRULE:FREQ=YEARLY;BYDAY=-1SU;BYMONTH=10
TZNAME:CET
TZOFFSETFROM:+0200
TZOFFSETTO:+0100
END:STANDARD
BEGIN:DAYLIGHT
DTSTART:20250330T020000
RRULE:FREQ=YEARLY;BYDAY=-1SU;BYMONTH=3
TZNAME:CEST
TZOFFSETFROM:+0100
TZOFFSETTO:+0200
END:DAYLIGHT
END:VTIMEZONE
BEGIN:VEVENT
DESCRIPTION:En esa casa pasan cosas\, ese fue el runrún que tuvimos que es
 cuchar toda la vida...\n\nDos hermanas\, varios malentendidos y un gran mi
 sterio. La sorprendente y conmovedora historia de una familia durante la p
 osguerra española.\nEvent link: https://teatroavanti.spaces.nexudus.com/e
 n/events/view/1414990105/en-esta-casa-pasan-cosas---el-callejón-del-gato-
 --jueves-3-febrero--21-00-h--público-adulto\n
DTEND;TZID=Europe/Paris:20220203T220000
DTSTAMP:20260421T185952Z
DTSTART;TZID=Europe/Paris:20220203T210000
LOCATION:Teatro Avanti
SEQUENCE:0
SUMMARY:EN ESTA CASA PASAN COSAS - El Callejón del Gato - Jueves 3 Febrero
  (21:00 h) Público Adulto 
UID:bab2b904-e21c-4acb-a665-d85b4daa1eb8
END:VEVENT
END:VCALENDAR
