BEGIN:VCALENDAR
PRODID:Nexudus
VERSION:2.0
BEGIN:VTIMEZONE
TZID:Europe/Paris
X-LIC-LOCATION:Europe/Paris
BEGIN:STANDARD
DTSTART:20241027T030000
RRULE:FREQ=YEARLY;BYDAY=-1SU;BYMONTH=10
TZNAME:CET
TZOFFSETFROM:+0200
TZOFFSETTO:+0100
END:STANDARD
BEGIN:DAYLIGHT
DTSTART:20250330T020000
RRULE:FREQ=YEARLY;BYDAY=-1SU;BYMONTH=3
TZNAME:CEST
TZOFFSETFROM:+0100
TZOFFSETTO:+0200
END:DAYLIGHT
END:VTIMEZONE
BEGIN:VEVENT
DESCRIPTION:Basada en hechos reales\, cuenta la experiencia del\nactor y di
 rector Manolo MEDINA junto con su hermana Chelo\, con\nsu padre\, enfermo 
 de Alzheimer. Manolo toma otra perspectiva de\nla enfermedad y hace todo l
 o posible para que su padre\, su\nhermana y él “disfruten” de ella mi
 entras el tiempo lo permita.\nUna tragicomeida que te hará reír y llorar
  a la vez\, pero ante todo\nver la realidad de nuestros enfermos de Alzhei
 mer.\nEvent link: https://teatroavanti.spaces.nexudus.com/en/events/view/1
 414958395/en-el-baul-de-mis-recuerdos-con-manolo-medina--miguel-caicedo-y-
 eva-santamaria---sábado-2-octubre---21-00-h-\n
DTEND;TZID=Europe/Paris:20211002T223000
DTSTAMP:20260421T222017Z
DTSTART;TZID=Europe/Paris:20211002T210000
LOCATION:Teatro Avanti
SEQUENCE:0
SUMMARY:EN EL BAUL DE MIS RECUERDOS con Manolo Medina\, Miguel Caicedo y Ev
 a Santamaria.- Sábado 2 Octubre  (21:00 h) 
UID:95e46d96-14dd-4283-8201-13216f93948e
END:VEVENT
END:VCALENDAR
