BEGIN:VCALENDAR
PRODID:Nexudus
VERSION:2.0
BEGIN:VTIMEZONE
TZID:Europe/Paris
X-LIC-LOCATION:Europe/Paris
BEGIN:STANDARD
DTSTART:20241027T030000
RRULE:FREQ=YEARLY;BYDAY=-1SU;BYMONTH=10
TZNAME:CET
TZOFFSETFROM:+0200
TZOFFSETTO:+0100
END:STANDARD
BEGIN:DAYLIGHT
DTSTART:20250330T020000
RRULE:FREQ=YEARLY;BYDAY=-1SU;BYMONTH=3
TZNAME:CEST
TZOFFSETFROM:+0100
TZOFFSETTO:+0200
END:DAYLIGHT
END:VTIMEZONE
BEGIN:VEVENT
DESCRIPTION:Pinocho se ha cansado de aguantar su situaciónen en el cuento 
 por lo que\ndecide escaparse. Geppetto decide acudir a la Agencia de Detec
 tives Aguarrás y\nSucedáneos para contratar sus servicios y encontrar cu
 anto antes a Pinocho.\nEvent link: https://teatroavanti.spaces.nexudus.com
 /en/events/view/274048780/el-viaje-de-pinocho---domingo-19-febrero--12-00-
 y-18-00-h---público-familiar--infantil-5----adulto-6--\n
DTEND;TZID=Europe/Paris:20170219T130000
DTSTAMP:20260423T031325Z
DTSTART;TZID=Europe/Paris:20170219T120000
LOCATION:Teatro Avanti
SEQUENCE:0
SUMMARY:EL VIAJE DE PINOCHO - Domingo 19 Febrero (12:00 y 18:00 h.) Públic
 o Familiar. Infantil 5€ - Adulto 6€.
UID:f20e92ff-89a8-42c1-bfa1-bc1ec23a04a4
END:VEVENT
END:VCALENDAR
