BEGIN:VCALENDAR
PRODID:Nexudus
VERSION:2.0
BEGIN:VTIMEZONE
TZID:Europe/Paris
X-LIC-LOCATION:Europe/Paris
BEGIN:STANDARD
DTSTART:20241027T030000
RRULE:FREQ=YEARLY;BYDAY=-1SU;BYMONTH=10
TZNAME:CET
TZOFFSETFROM:+0200
TZOFFSETTO:+0100
END:STANDARD
BEGIN:DAYLIGHT
DTSTART:20250330T020000
RRULE:FREQ=YEARLY;BYDAY=-1SU;BYMONTH=3
TZNAME:CEST
TZOFFSETFROM:+0100
TZOFFSETTO:+0200
END:DAYLIGHT
END:VTIMEZONE
BEGIN:VEVENT
DESCRIPTION:Nasha es una mujer valiente\, de un poblado Africano. Una terri
 ble maldición acechará a su pueblo dejándoles sin recursos para vivir. 
 Se sabía que una malvada bruja\, bajo un hechizo\, era la culpable de tod
 o lo ocurrido.\n\nNasha emprenderá un viaje en busca del antídoto que pe
 rmitiría destruir el hechizo\, un viaje mágico e inolvidable\, en el que
  vivirá grandes aventuras\, descubrirá lugares maravillosos y conocerán
  gentes que llenarán su corazón. ¿Encontrará el hechizo bajo el que se
  encuentra la bruja y así salvar a su poblado?\n\nEvent link: https://tea
 troavanti.spaces.nexudus.com/en/events/view/1415000114/el-viaje-de-nasha--
 -ashira-danza-oriental---domingo-13-marzo--18-00-h--todos-los-públicos\n
DTEND;TZID=Europe/Paris:20220313T190000
DTSTAMP:20260421T171949Z
DTSTART;TZID=Europe/Paris:20220313T180000
LOCATION:Teatro Avanti
SEQUENCE:0
SUMMARY:EL VIAJE DE NASHA - Ashira Danza Oriental - Domingo 13 Marzo (18:00
  h) Todos los públicos
UID:0683ed08-43c4-4ed2-ad80-9a9ff780f9c5
END:VEVENT
END:VCALENDAR
