BEGIN:VCALENDAR
PRODID:Nexudus
VERSION:2.0
BEGIN:VTIMEZONE
TZID:Europe/Paris
X-LIC-LOCATION:Europe/Paris
BEGIN:STANDARD
DTSTART:20241027T030000
RRULE:FREQ=YEARLY;BYDAY=-1SU;BYMONTH=10
TZNAME:CET
TZOFFSETFROM:+0200
TZOFFSETTO:+0100
END:STANDARD
BEGIN:DAYLIGHT
DTSTART:20250330T020000
RRULE:FREQ=YEARLY;BYDAY=-1SU;BYMONTH=3
TZNAME:CEST
TZOFFSETFROM:+0100
TZOFFSETTO:+0200
END:DAYLIGHT
END:VTIMEZONE
BEGIN:VEVENT
DESCRIPTION:Había una vez una familia de Girasoles que vivían felices en 
 un hermoso\nprado\, grande y soleado. Todos los girasoles eran encantadore
 s: alegres\, y\nsiempre amables. Todos todos... menos uno. Un girasol seri
 o que no se reía\nnunca y siempre pensaba en sus cosas. Una imaginativa h
 istoria llena de\nfantasía realizada con la mágica técnica del TEATRO N
 EGRO\, que cuenta la\nhistoria del Sol y el Girasol\, dos inconformes pers
 onajes\, que finalmente\ny gracias a la solidaridad y complicidad de unos 
 pajaritos muy revoltosos\nlogran cumplir sus sueños.\nEvent link: https:/
 /teatroavanti.spaces.nexudus.com/en/events/view/941367437/el-sol-y-el-gira
 sol---cía-la-carreta-teatro--domingo-31-marzo--12-00-horas-\n
DTEND;TZID=Europe/Paris:20190331T130000
DTSTAMP:20260422T133928Z
DTSTART;TZID=Europe/Paris:20190331T120000
LOCATION:Teatro Avanti
SEQUENCE:0
SUMMARY:El Sol y el Girasol - Cía La Carreta Teatro -Domingo 31 Marzo (12:
 00 horas)
UID:f29daad5-96be-41e1-9bd7-0299bba615c1
END:VEVENT
END:VCALENDAR
