BEGIN:VCALENDAR
PRODID:Nexudus
VERSION:2.0
BEGIN:VTIMEZONE
TZID:Europe/Paris
X-LIC-LOCATION:Europe/Paris
BEGIN:STANDARD
DTSTART:20241027T030000
RRULE:FREQ=YEARLY;BYDAY=-1SU;BYMONTH=10
TZNAME:CET
TZOFFSETFROM:+0200
TZOFFSETTO:+0100
END:STANDARD
BEGIN:DAYLIGHT
DTSTART:20250330T020000
RRULE:FREQ=YEARLY;BYDAY=-1SU;BYMONTH=3
TZNAME:CEST
TZOFFSETFROM:+0100
TZOFFSETTO:+0200
END:DAYLIGHT
END:VTIMEZONE
BEGIN:VEVENT
DESCRIPTION:Marta es una niña inquieta por aprender y muy responsable en s
 us estudios. Todos los fines de semana sus padres le permiten utilizar su 
 tablet y así conocer las últimas novedades. Una tarde recibe la visita d
 e Teresa\, su mejor amiga y ambas descubrirán una nueva aplicación “El
  maravilloso mundo de Drilo” donde conocerán que un mundo mágico y div
 ertido\, lleno de personajes y canciones le esperan más allá de la panta
 lla de su tablet.\nEvent link: https://teatroavanti.spaces.nexudus.com/en/
 events/view/1415112461/el-maravilloso-mundo-de-drilo---pandilla-del-drilo-
 --domingo-5-marzo--12-00-h-y-18-00-h--público-familiar\n
DTEND;TZID=Europe/Paris:20230305T190000
DTSTAMP:20260421T105000Z
DTSTART;TZID=Europe/Paris:20230305T120000
LOCATION:Teatro Avanti
SEQUENCE:0
SUMMARY:EL MARAVILLOSO MUNDO DE DRILO - Pandilla del Drilo - Domingo 5 Marz
 o (12:00 h y 18:00 h) Público Familiar
UID:e71d93fb-9369-47b4-be03-c264964671fb
END:VEVENT
END:VCALENDAR
