BEGIN:VCALENDAR
PRODID:Nexudus
VERSION:2.0
BEGIN:VTIMEZONE
TZID:Europe/Paris
X-LIC-LOCATION:Europe/Paris
BEGIN:STANDARD
DTSTART:20241027T030000
RRULE:FREQ=YEARLY;BYDAY=-1SU;BYMONTH=10
TZNAME:CET
TZOFFSETFROM:+0200
TZOFFSETTO:+0100
END:STANDARD
BEGIN:DAYLIGHT
DTSTART:20250330T020000
RRULE:FREQ=YEARLY;BYDAY=-1SU;BYMONTH=3
TZNAME:CEST
TZOFFSETFROM:+0100
TZOFFSETTO:+0200
END:DAYLIGHT
END:VTIMEZONE
BEGIN:VEVENT
DESCRIPTION:La mascara producciones nos presenta un fantastico espectáculo
  tributo al Musical El Rey Leon\, con una espectacular puesta en escena de
  actores\, actrices\, luz y sonido.\n\nPrecio entrada venta anticipada en 
 taquilla 15 € - El mismo día del espectáculo 18 €\nEvent link: https
 ://teatroavanti.spaces.nexudus.com/en/events/view/1106170145/el-legado-del
 -leon-concierto-tributo-a-el-rey-leon--domingo-29-septiembre--17-00-h-y-19
 -00h---todos-los-publicos-\n
DTEND;TZID=Europe/Paris:20190929T210000
DTSTAMP:20260422T102514Z
DTSTART;TZID=Europe/Paris:20190929T170000
LOCATION:Teatro Avanti
SEQUENCE:0
SUMMARY:EL LEGADO DEL LEON.CONCIERTO TRIBUTO A EL REY LEON. Domingo 29 Sept
 iembre (17:00 h y 19:00h ) Todos los publicos.
UID:b61f0052-7aa1-4e4a-8af2-b3913224777f
END:VEVENT
END:VCALENDAR
