BEGIN:VCALENDAR
PRODID:Nexudus
VERSION:2.0
BEGIN:VTIMEZONE
TZID:Europe/Paris
X-LIC-LOCATION:Europe/Paris
BEGIN:STANDARD
DTSTART:20241027T030000
RRULE:FREQ=YEARLY;BYDAY=-1SU;BYMONTH=10
TZNAME:CET
TZOFFSETFROM:+0200
TZOFFSETTO:+0100
END:STANDARD
BEGIN:DAYLIGHT
DTSTART:20250330T020000
RRULE:FREQ=YEARLY;BYDAY=-1SU;BYMONTH=3
TZNAME:CEST
TZOFFSETFROM:+0100
TZOFFSETTO:+0200
END:DAYLIGHT
END:VTIMEZONE
BEGIN:VEVENT
DESCRIPTION:14 Festival de Circo de Córdoba. Tras largos años maltratando
  partituras de los grandes clásicos con el saxofón y el clarinete\, esto
 s dos payasos descubren su ineptitud para la música. Para alivio de tímp
 anos del mundo\, deciden dedicarse a lo que mejor saben\, hacer reír.\nGr
 acias a esta sabia decisión\, se aferran a lo único que consiguen que su
 ene bien de estos instrumentos\, sus nombres: así\, Saxofón y Clarinete 
 nos traen un espectáculo cargado de habilidad\, destreza\, magia y mucho 
 humor.\nEvent link: https://teatroavanti.spaces.nexudus.com/en/events/view
 /1168329178/el-gran-circo-de-saxofón-y-clarinete---cirko-psikario---sába
 do-30-noviembre--18-00-h-\n
DTEND;TZID=Europe/Paris:20191130T210000
DTSTAMP:20260422T085249Z
DTSTART;TZID=Europe/Paris:20191130T180000
LOCATION:Teatro Avanti
SEQUENCE:0
SUMMARY:El gran circo de Saxofón y Clarinete - Cirko Psikario - Sábado 30
  Noviembre (18:00 h)
UID:ec5aae89-ac02-4c6b-9590-ff11bad45ebc
END:VEVENT
END:VCALENDAR
