BEGIN:VCALENDAR
PRODID:Nexudus
VERSION:2.0
BEGIN:VTIMEZONE
TZID:Europe/Paris
X-LIC-LOCATION:Europe/Paris
BEGIN:STANDARD
DTSTART:20241027T030000
RRULE:FREQ=YEARLY;BYDAY=-1SU;BYMONTH=10
TZNAME:CET
TZOFFSETFROM:+0200
TZOFFSETTO:+0100
END:STANDARD
BEGIN:DAYLIGHT
DTSTART:20250330T020000
RRULE:FREQ=YEARLY;BYDAY=-1SU;BYMONTH=3
TZNAME:CEST
TZOFFSETFROM:+0100
TZOFFSETTO:+0200
END:DAYLIGHT
END:VTIMEZONE
BEGIN:VEVENT
DESCRIPTION:Si asististe al derby\, ahora tienes la oportunidad de ver la v
 uelta\, Tony Rodríguez\ny Luis Lara vuelven a ser los protagonistas de es
 te partido y contarán\ncon otros dos artistas... actuando como delegado d
 e campo\, Jesús Tapia y\ncomo arbitro\, Vicente Ruidos. ¿Serán capaces 
 de mantener el (des)orden)?\nHumor declarado de alto riesgo de precipitaci
 ones y nieve.\n\nEntradas 15 € Venta anticipada.\n                18 €
  El mismo dia del espectaculo.\nEvent link: https://teatroavanti.spaces.ne
 xudus.com/en/events/view/571791221/el-derby-la-vuelta--bastinazo-produccio
 nes----domingo-22-de-abril--17-00-y-19-30-horas--público-adulto--ultimas-
 localidades-de-venta-exclusiva-en-taquilla-del-teatro-\n
DTEND;TZID=Europe/Paris:20180422T210000
DTSTAMP:20260422T183156Z
DTSTART;TZID=Europe/Paris:20180422T170000
LOCATION:Teatro Avanti
SEQUENCE:0
SUMMARY:El Derby-La Vuelta (Bastinazo Producciones).  Domingo 22 de Abril (
 17:00 y 19:30 horas) Público Adulto. ULTIMAS LOCALIDADES DE VENTA EXCLUSI
 VA EN TAQUILLA DEL TEATRO.
UID:b2154f90-6444-48cc-a8a0-58b942291ee0
END:VEVENT
END:VCALENDAR
