BEGIN:VCALENDAR
PRODID:Nexudus
VERSION:2.0
BEGIN:VTIMEZONE
TZID:Europe/Paris
X-LIC-LOCATION:Europe/Paris
BEGIN:STANDARD
DTSTART:20241027T030000
RRULE:FREQ=YEARLY;BYDAY=-1SU;BYMONTH=10
TZNAME:CET
TZOFFSETFROM:+0200
TZOFFSETTO:+0100
END:STANDARD
BEGIN:DAYLIGHT
DTSTART:20250330T020000
RRULE:FREQ=YEARLY;BYDAY=-1SU;BYMONTH=3
TZNAME:CEST
TZOFFSETFROM:+0100
TZOFFSETTO:+0200
END:DAYLIGHT
END:VTIMEZONE
BEGIN:VEVENT
DESCRIPTION:La última obra dramática escrita por el autor de referencia d
 el teatro actual\, Jordi Galcerán\, el rey del humor negro. Todo empieza 
 con un hombre que intenta conseguir que una sucursal bancaria le conceda u
 n pequeño crédito. No tiene avales ni propiedades\, tan sólo cuenta con
  su “palabra de honor”. La negativa del director de la sucursal les co
 loca a los dos en una situación muy delicada e hilarante.\nEvent link: ht
 tps://teatroavanti.spaces.nexudus.com/en/events/view/1414958796/el-credito
 ---viernes-22-octubre---21-00-h--público-adulto-\n
DTEND;TZID=Europe/Paris:20211022T220000
DTSTAMP:20260421T221615Z
DTSTART;TZID=Europe/Paris:20211022T210000
LOCATION:Teatro Avanti
SEQUENCE:0
SUMMARY:EL CREDITO - Viernes 22 Octubre  (21:00 h) Público Adulto.
UID:2631f0d4-58f9-4601-b996-0cca689e61b8
END:VEVENT
END:VCALENDAR
