BEGIN:VCALENDAR
PRODID:Nexudus
VERSION:2.0
BEGIN:VTIMEZONE
TZID:Europe/Paris
X-LIC-LOCATION:Europe/Paris
BEGIN:STANDARD
DTSTART:20241027T030000
RRULE:FREQ=YEARLY;BYDAY=-1SU;BYMONTH=10
TZNAME:CET
TZOFFSETFROM:+0200
TZOFFSETTO:+0100
END:STANDARD
BEGIN:DAYLIGHT
DTSTART:20250330T020000
RRULE:FREQ=YEARLY;BYDAY=-1SU;BYMONTH=3
TZNAME:CEST
TZOFFSETFROM:+0100
TZOFFSETTO:+0200
END:DAYLIGHT
END:VTIMEZONE
BEGIN:VEVENT
DESCRIPTION:El chef Chop Chop y el Tik Tak de Fidelia es un espectáculo te
 cno-emocional\npara alimentar los sentidos. Receta para público familiar\
 , comensales de lujo\nniños y niñas a partir de cinco años de edad. El 
 objetivo de la receta es crear\nemoción en los comensales\, serán ellos 
 los descubridores e intérpretes de esta\nexperiencia guiada por el Chef C
 hop Chop y Fidelia. Se cocinarán tradicionales\ntécnicas escénicas y nu
 evas tecnologías con los siguientes ingredientes:\n60kg de música\, 30kg
  de danza teatro\, 20kg de humor\, 800gr de paciencia y\nbelleza y 1 pizca
  de imperfecciones.\nEvent link: https://teatroavanti.spaces.nexudus.com/e
 n/events/view/723174483/el-chef-chop-chop-y-el-tik-tak-de-fidelia---karlik
 -danza-teatro---domingo-18-noviembre--12-00-h--\n
DTEND;TZID=Europe/Paris:20181118T130000
DTSTAMP:20260422T165554Z
DTSTART;TZID=Europe/Paris:20181118T120000
LOCATION:Teatro Avanti
SEQUENCE:0
SUMMARY:El chef Chop Chop y el tik tak de Fidelia - Karlik danza teatro - D
 omingo 18 Noviembre (12:00 h.)
UID:3d248206-5e17-4c13-9f3e-65380b5b4bbb
END:VEVENT
END:VCALENDAR
