BEGIN:VCALENDAR
PRODID:Nexudus
VERSION:2.0
BEGIN:VTIMEZONE
TZID:Europe/Paris
X-LIC-LOCATION:Europe/Paris
BEGIN:STANDARD
DTSTART:20241027T030000
RRULE:FREQ=YEARLY;BYDAY=-1SU;BYMONTH=10
TZNAME:CET
TZOFFSETFROM:+0200
TZOFFSETTO:+0100
END:STANDARD
BEGIN:DAYLIGHT
DTSTART:20250330T020000
RRULE:FREQ=YEARLY;BYDAY=-1SU;BYMONTH=3
TZNAME:CEST
TZOFFSETFROM:+0100
TZOFFSETTO:+0200
END:DAYLIGHT
END:VTIMEZONE
BEGIN:VEVENT
DESCRIPTION:Dumbo por fin tendrá un hogar\, ha sido adoptado por la señor
 a Francesca\, la\nprimera vedette de las elefantas del Gran Circo Patatier
 i. Este viaje se verá interrumpido\npor el misterio de la Luz\, que una v
 ez cada cien años se reúne en un\nmismo punto del planeta\, para expandi
 rse por todos los rincones del universo.\nNómola\, el ser más oscuro enc
 uentra ese lugar\, la luz se ve obligada a huir\nintroduciéndose en el cu
 erpo de Dumbo\, que siendo tan solo un bebé tiene que\nesconderse para no
  ser atrapado y que la luz sea utilizada en malas acciones...\nEvent link:
  https://teatroavanti.spaces.nexudus.com/en/events/view/784755974/dumbo---
 la-tomasa-teatro---domingo-17-febrero--12-00-y-18-00-h-\n
DTEND;TZID=Europe/Paris:20190217T190000
DTSTAMP:20260422T133956Z
DTSTART;TZID=Europe/Paris:20190217T120000
LOCATION:Teatro Avanti
SEQUENCE:0
SUMMARY:Dumbo - La Tomasa Teatro - Domingo 17 Febrero (12:00 y 18:00 h)
UID:eddf1ead-26f2-4330-bc8c-6b08e5687c1b
END:VEVENT
END:VCALENDAR
