BEGIN:VCALENDAR
PRODID:Nexudus
VERSION:2.0
BEGIN:VTIMEZONE
TZID:Europe/Paris
X-LIC-LOCATION:Europe/Paris
BEGIN:STANDARD
DTSTART:20241027T030000
RRULE:FREQ=YEARLY;BYDAY=-1SU;BYMONTH=10
TZNAME:CET
TZOFFSETFROM:+0200
TZOFFSETTO:+0100
END:STANDARD
BEGIN:DAYLIGHT
DTSTART:20250330T020000
RRULE:FREQ=YEARLY;BYDAY=-1SU;BYMONTH=3
TZNAME:CEST
TZOFFSETFROM:+0100
TZOFFSETTO:+0200
END:DAYLIGHT
END:VTIMEZONE
BEGIN:VEVENT
DESCRIPTION:Dos Cómicos muy Tontos es un show de monólogos irre- verentes
  donde el humor andaluz\, la tontuna de ellos y la improvisación se mezcl
 an de forma que el espectáculo se sale de lo convencional. Un espectácul
 o escrito y representado por Guelmi & Christian García\, dos de los cómi
 cos con más proyección del territorio nacional.\nEvent link: https://tea
 troavanti.spaces.nexudus.com/en/events/view/1415130000/dos-cómicos-muy-to
 ntos---guelmi---christian-garcía---domingo-12-marzo--19-00-h--público-ad
 ulto\n
DTEND;TZID=Europe/Paris:20230312T200000
DTSTAMP:20260421T104816Z
DTSTART;TZID=Europe/Paris:20230312T190000
LOCATION:Teatro Avanti
SEQUENCE:0
SUMMARY:DOS CÓMICOS MUY TONTOS - Guelmi & Christian García - Domingo 12 M
 arzo (19:00 h) Público Adulto
UID:5d8353b3-6785-4fc4-912e-61db58d7a1cb
END:VEVENT
END:VCALENDAR
