BEGIN:VCALENDAR
PRODID:Nexudus
VERSION:2.0
BEGIN:VTIMEZONE
TZID:Europe/Paris
X-LIC-LOCATION:Europe/Paris
BEGIN:STANDARD
DTSTART:20241027T030000
RRULE:FREQ=YEARLY;BYDAY=-1SU;BYMONTH=10
TZNAME:CET
TZOFFSETFROM:+0200
TZOFFSETTO:+0100
END:STANDARD
BEGIN:DAYLIGHT
DTSTART:20250330T020000
RRULE:FREQ=YEARLY;BYDAY=-1SU;BYMONTH=3
TZNAME:CEST
TZOFFSETFROM:+0100
TZOFFSETTO:+0200
END:DAYLIGHT
END:VTIMEZONE
BEGIN:VEVENT
DESCRIPTION:“Divorciadas\, evangélicas y vegetarianas” es una obra de 
 teatro que el venezolano\nGustavo Ott escribió en 1989 y que\, desde ento
 nces\, es de todo aquel que\nla lee y la hace suya. Es un texto riquísimo
  en imágenes porque\, a través de los\nchistes\, tres mujeres se descubr
 en y se hacen el propósito de sentirse plenas\,\na pesar de las máscaras
  que les han quitado brillo en sus años más fértiles.\nPrecio: anticipa
 da 8€ día espectáculo10 €\nEvent link: https://teatroavanti.spaces.n
 exudus.com/en/events/view/665856512/divorciadas--evangelicas-y-vegetariana
 s--cía---la-vidriera-teatro-córdoba--viernes-19-y-sábado-20-octubre---2
 1-00-h-\n
DTEND;TZID=Europe/Paris:20181020T220000
DTSTAMP:20260422T165117Z
DTSTART;TZID=Europe/Paris:20181019T210000
LOCATION:Teatro Avanti
SEQUENCE:0
SUMMARY:DIVORCIADAS\, EVANGELICAS Y VEGETARIANAS- Cía.: La Vidriera Teatro
 (Córdoba) Viernes 19 y Sábado 20 Octubre  (21:00 h) 
UID:674af9ca-47ff-44e2-947e-d933e48b74a5
END:VEVENT
END:VCALENDAR
