BEGIN:VCALENDAR
PRODID:Nexudus
VERSION:2.0
BEGIN:VTIMEZONE
TZID:Europe/Paris
X-LIC-LOCATION:Europe/Paris
BEGIN:STANDARD
DTSTART:20241027T030000
RRULE:FREQ=YEARLY;BYDAY=-1SU;BYMONTH=10
TZNAME:CET
TZOFFSETFROM:+0200
TZOFFSETTO:+0100
END:STANDARD
BEGIN:DAYLIGHT
DTSTART:20250330T020000
RRULE:FREQ=YEARLY;BYDAY=-1SU;BYMONTH=3
TZNAME:CEST
TZOFFSETFROM:+0100
TZOFFSETTO:+0200
END:DAYLIGHT
END:VTIMEZONE
BEGIN:VEVENT
DESCRIPTION:Despiadados\, con licencia para matar de risa. La acción trans
 curre en\nuna sociedad imaginaria y ficticia regida por el caos y por orga
 nizaciones\nsanguinarias y violentas\, en la que no existen reglas\, moral
  ni humanidad\n(hasta aquí\, la vida misma). Y allí que aparecen Hamn y 
 Kluf\, dos espías\nmarginados en su propia organización por su incompete
 ncia. Se toparán con\nMarc Sarmientos\, líder de una de las principales 
 organizaciones enemigas\ny\, por si faltaban elementos de riesgo\, una bel
 lísima mujer espía\, que les\npondrá todo tipo de obstáculos.\nEvent l
 ink: https://teatroavanti.spaces.nexudus.com/en/events/view/270918650/desp
 iadados---viernes-20-y-sábado-21-enero--21-00-h--público-adulto-\n
DTEND;TZID=Europe/Paris:20170121T220000
DTSTAMP:20260423T044445Z
DTSTART;TZID=Europe/Paris:20170120T210000
LOCATION:TEATRO AVANTI
SEQUENCE:0
SUMMARY:DESPIADADOS - Viernes 20 y Sábado 21 Enero (21:00 h) Público Adul
 to.
UID:9350cc8f-2ef4-4443-b560-ebf74f7dee82
END:VEVENT
END:VCALENDAR
