BEGIN:VCALENDAR
PRODID:Nexudus
VERSION:2.0
BEGIN:VTIMEZONE
TZID:Europe/Paris
X-LIC-LOCATION:Europe/Paris
BEGIN:STANDARD
DTSTART:20241027T030000
RRULE:FREQ=YEARLY;BYDAY=-1SU;BYMONTH=10
TZNAME:CET
TZOFFSETFROM:+0200
TZOFFSETTO:+0100
END:STANDARD
BEGIN:DAYLIGHT
DTSTART:20250330T020000
RRULE:FREQ=YEARLY;BYDAY=-1SU;BYMONTH=3
TZNAME:CEST
TZOFFSETFROM:+0100
TZOFFSETTO:+0200
END:DAYLIGHT
END:VTIMEZONE
BEGIN:VEVENT
DESCRIPTION:\nEvent link: https://teatroavanti.spaces.nexudus.com/en/events
 /view/481995544/curso-de-clown\n
DTEND;TZID=Europe/Paris:20171203T180000
DTSTAMP:20260422T200924Z
DTSTART;TZID=Europe/Paris:20171201T090000
LOCATION:Teatro Avanti
SEQUENCE:0
SUMMARY:CURSO DE CLOWN
UID:d413db19-c313-4d30-8fa0-b182b444033f
END:VEVENT
END:VCALENDAR
