BEGIN:VCALENDAR
PRODID:Nexudus
VERSION:2.0
BEGIN:VTIMEZONE
TZID:Europe/Paris
X-LIC-LOCATION:Europe/Paris
BEGIN:STANDARD
DTSTART:20241027T030000
RRULE:FREQ=YEARLY;BYDAY=-1SU;BYMONTH=10
TZNAME:CET
TZOFFSETFROM:+0200
TZOFFSETTO:+0100
END:STANDARD
BEGIN:DAYLIGHT
DTSTART:20250330T020000
RRULE:FREQ=YEARLY;BYDAY=-1SU;BYMONTH=3
TZNAME:CEST
TZOFFSETFROM:+0100
TZOFFSETTO:+0200
END:DAYLIGHT
END:VTIMEZONE
BEGIN:VEVENT
DESCRIPTION:\nEvent link: https://teatroavanti.spaces.nexudus.com/en/events
 /view/308310067/curso-de-clown-10-11-y-12-marzo\n
DTEND;TZID=Europe/Paris:20170312T200000
DTSTAMP:20260423T014416Z
DTSTART;TZID=Europe/Paris:20170310T090000
LOCATION:Teatro Avanti
SEQUENCE:0
SUMMARY:CURSO DE CLOWN 10\,11 Y 12 MARZO
UID:8ad976c8-af6e-4f4d-b8b8-0c0c5d62652c
END:VEVENT
END:VCALENDAR
