BEGIN:VCALENDAR
PRODID:Nexudus
VERSION:2.0
BEGIN:VTIMEZONE
TZID:Europe/Paris
X-LIC-LOCATION:Europe/Paris
BEGIN:STANDARD
DTSTART:20241027T030000
RRULE:FREQ=YEARLY;BYDAY=-1SU;BYMONTH=10
TZNAME:CET
TZOFFSETFROM:+0200
TZOFFSETTO:+0100
END:STANDARD
BEGIN:DAYLIGHT
DTSTART:20250330T020000
RRULE:FREQ=YEARLY;BYDAY=-1SU;BYMONTH=3
TZNAME:CEST
TZOFFSETFROM:+0100
TZOFFSETTO:+0200
END:DAYLIGHT
END:VTIMEZONE
BEGIN:VEVENT
DESCRIPTION:VIERNES   5 ABRIL : 17:00 A 20:00 H\nSABADO   6 ABRIL  : 10:00 
 A 14:00 H Y 17:00 A 20:00 H\nDOMINGO 7 ABRIL : 10:00 A 14:00 H\nEvent link
 : https://teatroavanti.spaces.nexudus.com/en/events/view/925028177/curso-d
 e-clown---viernes-5--sabado-6-y-domingo-7-de-abril\n
DTEND;TZID=Europe/Paris:20190407T000000
DTSTAMP:20260422T133341Z
DTSTART;TZID=Europe/Paris:20190405T170000
LOCATION:Teatro Avanti
SEQUENCE:0
SUMMARY:CURSO DE CLOWN - viernes 5\, sabado 6 Y domingo 7 DE ABRIL
UID:740aa56b-e002-408c-8144-b25f2b56e197
END:VEVENT
END:VCALENDAR
