BEGIN:VCALENDAR
PRODID:Nexudus
VERSION:2.0
BEGIN:VTIMEZONE
TZID:Europe/Paris
X-LIC-LOCATION:Europe/Paris
BEGIN:STANDARD
DTSTART:20241027T030000
RRULE:FREQ=YEARLY;BYDAY=-1SU;BYMONTH=10
TZNAME:CET
TZOFFSETFROM:+0200
TZOFFSETTO:+0100
END:STANDARD
BEGIN:DAYLIGHT
DTSTART:20250330T020000
RRULE:FREQ=YEARLY;BYDAY=-1SU;BYMONTH=3
TZNAME:CEST
TZOFFSETFROM:+0100
TZOFFSETTO:+0200
END:DAYLIGHT
END:VTIMEZONE
BEGIN:VEVENT
DESCRIPTION:Cornelius es un Gran Mago alocado\, que se dedica a fabricar lo
 s caramelos\, dulces\, chocolate\, galletas y golosinas que aparecen en to
 dos los cuentos del mundo. Con su magia inventa nuevas Recetas que no siem
 pre salen como desea. Una de sus magias “fallidas” es Chocaleta\, una 
 Piruleta rellena de Chocolate que ayuda y divierte a Cornelius en su día 
 a día\, su mejor amiga\, quien sueña con ser algún día una humana…\n
 En esta ocasión\, Chocaleta informa a Cornelius de un suceso fatídico…
  Su amigo\, el señor Ratoncito Pérez\, ha perdido el saco con los diente
 s recaudados en la noche! Ayúdales a desvelar éste misterioso caso y des
 cubre que hecho mágico está sucediendo.\nEvent link: https://teatroavant
 i.spaces.nexudus.com/en/events/view/1414973944/cornelius-el-mago-fabricant
 e-de-caramelos---domingo-7-noviembre--12-00-h----público-familiar-\n
DTEND;TZID=Europe/Paris:20211107T130000
DTSTAMP:20260421T221907Z
DTSTART;TZID=Europe/Paris:20211107T120000
LOCATION:Teatro Avanti
SEQUENCE:0
SUMMARY:CORNELIUS el mago fabricante de caramelos - Domingo 7 Noviembre (12
 :00 h ). Público Familiar.
UID:012d2702-c73c-4f43-a152-e7d9f3287fda
END:VEVENT
END:VCALENDAR
