BEGIN:VCALENDAR
PRODID:Nexudus
VERSION:2.0
BEGIN:VTIMEZONE
TZID:Europe/Paris
X-LIC-LOCATION:Europe/Paris
BEGIN:STANDARD
DTSTART:20241027T030000
RRULE:FREQ=YEARLY;BYDAY=-1SU;BYMONTH=10
TZNAME:CET
TZOFFSETFROM:+0200
TZOFFSETTO:+0100
END:STANDARD
BEGIN:DAYLIGHT
DTSTART:20250330T020000
RRULE:FREQ=YEARLY;BYDAY=-1SU;BYMONTH=3
TZNAME:CEST
TZOFFSETFROM:+0100
TZOFFSETTO:+0200
END:DAYLIGHT
END:VTIMEZONE
BEGIN:VEVENT
DESCRIPTION:Carlos (MÁXIMO VALVERDE) convoca un casting para elegir a la p
 rotagonista de su nueva obra de teatro. Después de un largo día haciendo
  pruebas a muchas chicas no ha encontrado en ninguna las cualidades que bu
 sca: cantar\, bailar e interpretar. Cansado y desesperado se dispone a irs
 e cuando aparece Milagros (EVA SANTAMARÍA)\, una chica que ha llegado tar
 de al casting y confunde a Carlos con el conserje de la sala.\nA partir de
  ahí Carlos aprovecha la confusión para hacer un “casting” muy parti
 cular y divertido.\n\nCia Máximo Valverde (Sevilla)\nEvent link: https://
 teatroavanti.spaces.nexudus.com/en/events/view/237670434/con-ganas-de-reir
 --7-y-8-oct--21-00-horas-\n
DTEND;TZID=Europe/Paris:20161008T210000
DTSTAMP:20260423T060653Z
DTSTART;TZID=Europe/Paris:20161007T210000
LOCATION:Teatro Avanti
SEQUENCE:0
SUMMARY:Con ganas de reir (7 y 8 Oct. 21:00 horas)
UID:09bdcb67-1b49-40aa-a62f-b574ce86a711
END:VEVENT
END:VCALENDAR
