BEGIN:VCALENDAR
PRODID:Nexudus
VERSION:2.0
BEGIN:VTIMEZONE
TZID:Europe/Paris
X-LIC-LOCATION:Europe/Paris
BEGIN:STANDARD
DTSTART:20241027T030000
RRULE:FREQ=YEARLY;BYDAY=-1SU;BYMONTH=10
TZNAME:CET
TZOFFSETFROM:+0200
TZOFFSETTO:+0100
END:STANDARD
BEGIN:DAYLIGHT
DTSTART:20250330T020000
RRULE:FREQ=YEARLY;BYDAY=-1SU;BYMONTH=3
TZNAME:CEST
TZOFFSETFROM:+0100
TZOFFSETTO:+0200
END:DAYLIGHT
END:VTIMEZONE
BEGIN:VEVENT
DESCRIPTION:<p>En relaci&oacute\;n a la situaci&oacute\;n se&ntilde\;alada 
 por las Autoridades Sanitarias\, vinculado a la expansi&oacute\;n del coro
 navirus en Espa&ntilde\;a y en aplicaci&oacute\;n de las medidas aprobadas
  por las instancias p&uacute\;blicas\, Teatro Avanti ha tomado la decisi&o
 acute\;n de suspender temporalmente las actividades formativas y actividad
 es programadas de la Muestra de Teatro Aficionado y del Festival de T&iacu
 te\;teres 2020\, al objeto de garantizar la protecci&oacute\;n del p&uacut
 e\;blico y de los trabajadores. En espera de otras medidas que puedan ser 
 adoptadas por las autoridades competentes\, quedamos a la espera de las ac
 tuaciones que vayan indicando las Autoridades sanitarias y su aplicaci&oac
 ute\;n al &aacute\;mbito de la vida ordinaria\, de todo lo cual informarem
 os puntualmente. Es nuestro deseo que esta crisis sea abordada con respons
 abilidad por parte de toda la sociedad y que pueda superarse\, lo m&aacute
 \;s r&aacute\;pido posible\, con la solidaridad de todos y que Teatro Avan
 ti pueda retomar sus actividades de nuevo para ofrecer la ilusi&oacute\;n 
 y alegr&iacute\;a que nos caracteriza. &Aacute\;nimo\, Salud y Teatro\, M&
 uacute\;sica y Danza. Aquellas personas que hayan adquirido una entrada pa
 ra alg&uacute\;n espect&aacute\;culo programado en estas fechas\, se proce
 der&aacute\; a la devoluci&oacute\;n del importe de la entrada. Las person
 as que han realizado la compra en la taquilla del teatro se les har&aacute
 \; la devoluci&oacute\;n en horario comercial\, una vez que las autoridade
 s sanitarias nos permitan abrir nuestras instalaciones\, para atender al p
 &uacute\;blico.</p>\nEvent link: https://teatroavanti.spaces.nexudus.com/e
 n/events/view/1290195938/comunicado-teatro-avanti\n
DTEND;TZID=Europe/Paris:20200520T000000
DTSTAMP:20260422T072755Z
DTSTART;TZID=Europe/Paris:20200313T130000
LOCATION:Teatro Avanti
SEQUENCE:0
SUMMARY:COMUNICADO TEATRO AVANTI
UID:9d66deeb-aa1c-4cdf-8d55-9c78059d4958
END:VEVENT
END:VCALENDAR
