BEGIN:VCALENDAR
PRODID:Nexudus
VERSION:2.0
BEGIN:VTIMEZONE
TZID:Europe/Paris
X-LIC-LOCATION:Europe/Paris
BEGIN:STANDARD
DTSTART:20241027T030000
RRULE:FREQ=YEARLY;BYDAY=-1SU;BYMONTH=10
TZNAME:CET
TZOFFSETFROM:+0200
TZOFFSETTO:+0100
END:STANDARD
BEGIN:DAYLIGHT
DTSTART:20250330T020000
RRULE:FREQ=YEARLY;BYDAY=-1SU;BYMONTH=3
TZNAME:CEST
TZOFFSETFROM:+0100
TZOFFSETTO:+0200
END:DAYLIGHT
END:VTIMEZONE
BEGIN:VEVENT
DESCRIPTION:Un plan perfecto de domingo:\nTres emocionantes conciertos en l
 os que acercarte a la música clásica de una manera cercana y personal. \
 nNumen Sessions Córdoba propone un formato de día completo con aperitivo
 \, exposiciones\, café y música. Una experiencia innovadora en la que ar
 tistas y público tienen un espacio para el encuentro\, el diálogo y la i
 nspiración mutua.\nNo te pierdas esta jornada artística immersiva marcad
 a por el sello de originalidad y calidad característico de Numen. \nConsi
 gue tu entrada y accede con ella a todo el programa.\nEvent link: https://
 teatroavanti.spaces.nexudus.com/en/events/view/1415125548/co-rdoba-numen-s
 essions---domingo-27-noviembre--12-00-h--todos-los-públicos-\n
DTEND;TZID=Europe/Paris:20221127T153000
DTSTAMP:20260421T140232Z
DTSTART;TZID=Europe/Paris:20221127T120000
LOCATION:Teatro Avanti
SEQUENCE:0
SUMMARY:CÓRDOBA NUMEN SESSIONS - Domingo 27 Noviembre (12:00 h) Todos los
  Públicos.
UID:84622310-3d59-433c-89d1-5c4c04ee2401
END:VEVENT
END:VCALENDAR
