BEGIN:VCALENDAR
PRODID:Nexudus
VERSION:2.0
BEGIN:VTIMEZONE
TZID:Europe/Paris
X-LIC-LOCATION:Europe/Paris
BEGIN:STANDARD
DTSTART:20241027T030000
RRULE:FREQ=YEARLY;BYDAY=-1SU;BYMONTH=10
TZNAME:CET
TZOFFSETFROM:+0200
TZOFFSETTO:+0100
END:STANDARD
BEGIN:DAYLIGHT
DTSTART:20250330T020000
RRULE:FREQ=YEARLY;BYDAY=-1SU;BYMONTH=3
TZNAME:CEST
TZOFFSETFROM:+0100
TZOFFSETTO:+0200
END:DAYLIGHT
END:VTIMEZONE
BEGIN:VEVENT
DESCRIPTION:Disfruta del los trabajos que los alumnos/as de nuestras Escuel
 as de Teatro\, Música\, Danza y Magia os ha preparado.\nDel 20 de Mayo al
  25 de Junio en TEATRO AVANTI. (Entrada Libre hasta completar aforo)\nEven
 t link: https://teatroavanti.spaces.nexudus.com/en/events/view/385299923/c
 ia--copperfield-group--grupo-de-magia---4-junio--domingo-12-00-horas----en
 trada-libre-hasta-completar-aforo-\n
DTEND;TZID=Europe/Paris:20170604T130000
DTSTAMP:20260423T002342Z
DTSTART;TZID=Europe/Paris:20170604T120000
LOCATION:Teatro Avanti
SEQUENCE:0
SUMMARY:CIA. COPPERFIELD GROUP  GRUPO DE MAGIA - 4 JUNIO- DOMINGO 12.00 HOR
 AS - (Entrada Libre hasta completar aforo)
UID:479dbd62-c315-4eae-bf01-e55ae343466d
END:VEVENT
END:VCALENDAR
