BEGIN:VCALENDAR
PRODID:Nexudus
VERSION:2.0
BEGIN:VTIMEZONE
TZID:Europe/Paris
X-LIC-LOCATION:Europe/Paris
BEGIN:STANDARD
DTSTART:20241027T030000
RRULE:FREQ=YEARLY;BYDAY=-1SU;BYMONTH=10
TZNAME:CET
TZOFFSETFROM:+0200
TZOFFSETTO:+0100
END:STANDARD
BEGIN:DAYLIGHT
DTSTART:20250330T020000
RRULE:FREQ=YEARLY;BYDAY=-1SU;BYMONTH=3
TZNAME:CEST
TZOFFSETFROM:+0100
TZOFFSETTO:+0200
END:DAYLIGHT
END:VTIMEZONE
BEGIN:VEVENT
DESCRIPTION:Os presentamos nuestra versión de este inmortal cuento de hada
 s. La magia y el humor nos permitirán disfrutar de las fantásticas avent
 uras de Cenicienta\, en compañía de su Hermanastra\, el Hada\, el Prínc
 ipe… en una divertida versión musical del cuento clásico con canciones
 .\nEvent link: https://teatroavanti.spaces.nexudus.com/en/events/view/2376
 43406/cenicienta--domingo-25-sep---12-00-y-18-00-horas--público-familiar\
 n
DTEND;TZID=Europe/Paris:20160925T200000
DTSTAMP:20260423T060922Z
DTSTART;TZID=Europe/Paris:20160925T120000
LOCATION:Teatro Avanti
SEQUENCE:0
SUMMARY:Cenicienta (Domingo 25 Sep - 12:00 y 18:00 horas) Público Familiar
UID:50cbf5b1-20a5-492d-9032-3d52842f2e53
END:VEVENT
END:VCALENDAR
