BEGIN:VCALENDAR
PRODID:Nexudus
VERSION:2.0
BEGIN:VTIMEZONE
TZID:Europe/Paris
X-LIC-LOCATION:Europe/Paris
BEGIN:STANDARD
DTSTART:20241027T030000
RRULE:FREQ=YEARLY;BYDAY=-1SU;BYMONTH=10
TZNAME:CET
TZOFFSETFROM:+0200
TZOFFSETTO:+0100
END:STANDARD
BEGIN:DAYLIGHT
DTSTART:20250330T020000
RRULE:FREQ=YEARLY;BYDAY=-1SU;BYMONTH=3
TZNAME:CEST
TZOFFSETFROM:+0100
TZOFFSETTO:+0200
END:DAYLIGHT
END:VTIMEZONE
BEGIN:VEVENT
DESCRIPTION:Durante una hora el espectador podrá disfrutar del cuento clá
 sico desde la perspectiva del humor\, la diversión y la amistad. Al salir
  del teatro aprenderás la lección: “Las apariencias engañan y no es m
 ás cruel quien lobo aparenta ser\, sino quién tiene crueldad en su coraz
 ón.\nEvent link: https://teatroavanti.spaces.nexudus.com/en/events/view/1
 414989739/caperucita-roja---cía-jabetin-teatro---domingo-30-enero--12-00h
 --público-familiar\n
DTEND;TZID=Europe/Paris:20220130T180000
DTSTAMP:20260421T185508Z
DTSTART;TZID=Europe/Paris:20220130T120000
LOCATION:Teatro Avanti
SEQUENCE:0
SUMMARY:CAPERUCITA ROJA - Cía Jabetin Teatro - Domingo 30 Enero (12:00h) P
 úblico Familiar
UID:3a7307d3-542d-4baf-b08d-000c1af54ffc
END:VEVENT
END:VCALENDAR
