BEGIN:VCALENDAR
PRODID:Nexudus
VERSION:2.0
BEGIN:VTIMEZONE
TZID:Europe/Paris
X-LIC-LOCATION:Europe/Paris
BEGIN:STANDARD
DTSTART:20241027T030000
RRULE:FREQ=YEARLY;BYDAY=-1SU;BYMONTH=10
TZNAME:CET
TZOFFSETFROM:+0200
TZOFFSETTO:+0100
END:STANDARD
BEGIN:DAYLIGHT
DTSTART:20250330T020000
RRULE:FREQ=YEARLY;BYDAY=-1SU;BYMONTH=3
TZNAME:CEST
TZOFFSETFROM:+0100
TZOFFSETTO:+0200
END:DAYLIGHT
END:VTIMEZONE
BEGIN:VEVENT
DESCRIPTION:Campanilla es la protectora de ”El bosque de la alegría”\,
  lo tiene todo bajo control \,todo\, hasta que Sebastián\, un Boy Scout a
  través del portal mágico. \nComo lo ha conseguido y lo que ocasionará 
 este hecho es algo que\nCampanilla tiene que descubrir\, pues las malas ar
 tes de “Frido” se han puesto en marcha congelando todo el bosque.\nCua
 ndo hada y humano se encuentren\, tendrán que entenderse o quizá aliarse
  para conseguir sus objetivos y hacer que una noche en principio vacía se
  convierta en la más loca y especial de su vida.\nCampanilla\, Sebastián
 \, el toro Fernando\, Margarita\, la rana dueña y señora del bosque y Fr
 ido os esperan en este espectáculo con 8 canciones inéditas queemocionan
 \, divierten y levantan al publico de sus butacas\; Una historia para dive
 rtirse en familia como La Tomasa Teatro nos tiene acostumbrados\, con toda
  la magia de Campanilla y toda la locura de Sebastián\n\nEvent link: http
 s://teatroavanti.spaces.nexudus.com/en/events/view/1414873350/campanilla--
 -domingo-21-marzo--12-00--horas--público-familiar\n
DTEND;TZID=Europe/Paris:20210321T180000
DTSTAMP:20260422T024317Z
DTSTART;TZID=Europe/Paris:20210321T120000
LOCATION:Teatro Avanti
SEQUENCE:0
SUMMARY:CAMPANILLA - Domingo 21 Marzo (12:00  horas) Público Familiar
UID:e74f6f03-f53a-486f-a6b2-43a3e89fd267
END:VEVENT
END:VCALENDAR
