BEGIN:VCALENDAR
PRODID:Nexudus
VERSION:2.0
BEGIN:VTIMEZONE
TZID:Europe/Paris
X-LIC-LOCATION:Europe/Paris
BEGIN:STANDARD
DTSTART:20241027T030000
RRULE:FREQ=YEARLY;BYDAY=-1SU;BYMONTH=10
TZNAME:CET
TZOFFSETFROM:+0200
TZOFFSETTO:+0100
END:STANDARD
BEGIN:DAYLIGHT
DTSTART:20250330T020000
RRULE:FREQ=YEARLY;BYDAY=-1SU;BYMONTH=3
TZNAME:CEST
TZOFFSETFROM:+0100
TZOFFSETTO:+0200
END:DAYLIGHT
END:VTIMEZONE
BEGIN:VEVENT
DESCRIPTION:Camino a Oz es una adaptación libre del cuento El mago de Oz. 
 En ella\, tras una tormenta\, Dorothy\, llega al país de Oz\, donde guiad
 a por el Hada Glinda\, inicia su aventura a través del camino de baldosas
  amarillas\, para poder regresar a su casa. En su camino\, se encuentra co
 n el descerebrado Espantapájaros\, con el Hombre de Hojalata sin corazón
  y con un León desprovisto de valor. Todos juntos hacen el camino\, bajo 
 la amenaza de la malvada bruja del Oeste\, en busca del Mago de Oz quién 
 les ayudará a conseguir sus objetivos.\nEvent link: https://teatroavanti.
 spaces.nexudus.com/en/events/view/249861620/camino-de-oz--domingo-20-novie
 mbre---12-00-y-18-00-horas--público-familiar\n
DTEND;TZID=Europe/Paris:20161120T180000
DTSTAMP:20260423T044510Z
DTSTART;TZID=Europe/Paris:20161120T120000
LOCATION:Teatro Avanti
SEQUENCE:0
SUMMARY:Camino de Oz. Domingo 20 Noviembre. (12:00 y 18:00 horas) Público 
 Familiar
UID:f7189350-d93b-493e-a016-cdbe7b22d549
END:VEVENT
END:VCALENDAR
