BEGIN:VCALENDAR
PRODID:Nexudus
VERSION:2.0
BEGIN:VTIMEZONE
TZID:Europe/Paris
X-LIC-LOCATION:Europe/Paris
BEGIN:STANDARD
DTSTART:20241027T030000
RRULE:FREQ=YEARLY;BYDAY=-1SU;BYMONTH=10
TZNAME:CET
TZOFFSETFROM:+0200
TZOFFSETTO:+0100
END:STANDARD
BEGIN:DAYLIGHT
DTSTART:20250330T020000
RRULE:FREQ=YEARLY;BYDAY=-1SU;BYMONTH=3
TZNAME:CEST
TZOFFSETFROM:+0100
TZOFFSETTO:+0200
END:DAYLIGHT
END:VTIMEZONE
BEGIN:VEVENT
DESCRIPTION:Adaptación libre del cuento El mago de Oz. En ella\, tras una 
 tormenta\,\nDorothy\, llega al país de Oz\, donde guiada por el Hada Glin
 da\, inicia su\naventura a través del camino de baldosas amarillas\, para
  poder regresar a\nsu casa. En su camino\, se encuentra con el descerebrad
 o Espantapájaros\,\ncon el Hombre de Hojalata sin corazón y con un León
  desprovisto de valor.\nTodos juntos hacen el camino\, bajo la amenaza de 
 la malvada bruja del\nOeste\, en busca del Mago de Oz quién les ayudará 
 a conseguir sus objetivos.\nEvent link: https://teatroavanti.spaces.nexudu
 s.com/en/events/view/1388541154/camino-a-oz---domingo-18-octubre--12-00---
 público-familiar\n
DTEND;TZID=Europe/Paris:20201018T193000
DTSTAMP:20260422T055104Z
DTSTART;TZID=Europe/Paris:20201018T120000
LOCATION:Teatro Avanti
SEQUENCE:0
SUMMARY:Camino a Oz - Domingo 18 Octubre (12:00 ) Público Familiar
UID:997e578f-c8d8-4d8c-869f-1ce13606ee33
END:VEVENT
END:VCALENDAR
