BEGIN:VCALENDAR
PRODID:Nexudus
VERSION:2.0
BEGIN:VTIMEZONE
TZID:Europe/Paris
X-LIC-LOCATION:Europe/Paris
BEGIN:STANDARD
DTSTART:20241027T030000
RRULE:FREQ=YEARLY;BYDAY=-1SU;BYMONTH=10
TZNAME:CET
TZOFFSETFROM:+0200
TZOFFSETTO:+0100
END:STANDARD
BEGIN:DAYLIGHT
DTSTART:20250330T020000
RRULE:FREQ=YEARLY;BYDAY=-1SU;BYMONTH=3
TZNAME:CEST
TZOFFSETFROM:+0100
TZOFFSETTO:+0200
END:DAYLIGHT
END:VTIMEZONE
BEGIN:VEVENT
DESCRIPTION:Muestra de las Escuelas de Teatro\, Música\, Danza\, Payasos y
  Magia.\nENTRADA GRATUITA (Hasta completar aforo).\nEvent link: https://te
 atroavanti.spaces.nexudus.com/en/events/view/1016497485/cía--copperfield-
 group--grupo-de-magia--domingo-2-junio--12-00-horas-\n
DTEND;TZID=Europe/Paris:20190602T130000
DTSTAMP:20260422T115828Z
DTSTART;TZID=Europe/Paris:20190602T120000
LOCATION:Teatro Avanti
SEQUENCE:0
SUMMARY:Cía. COPPERFIELD GROUP. Grupo de Magia. DOMINGO 2 Junio (12:00 hor
 as)
UID:eab8976a-2d66-44cb-9fb3-0732443667b8
END:VEVENT
END:VCALENDAR
