BEGIN:VCALENDAR
PRODID:Nexudus
VERSION:2.0
BEGIN:VTIMEZONE
TZID:Europe/Paris
X-LIC-LOCATION:Europe/Paris
BEGIN:STANDARD
DTSTART:20241027T030000
RRULE:FREQ=YEARLY;BYDAY=-1SU;BYMONTH=10
TZNAME:CET
TZOFFSETFROM:+0200
TZOFFSETTO:+0100
END:STANDARD
BEGIN:DAYLIGHT
DTSTART:20250330T020000
RRULE:FREQ=YEARLY;BYDAY=-1SU;BYMONTH=3
TZNAME:CEST
TZOFFSETFROM:+0100
TZOFFSETTO:+0200
END:DAYLIGHT
END:VTIMEZONE
BEGIN:VEVENT
DESCRIPTION:Blake utiliza el poder de la mente humana para traer a la luz l
 os pensamientos confidenciales\nde las personas. Busca lo que es único en
  una persona\, no lo que es vulgar.\nEn su nuevo show\, “Pensamientos Co
 nfidenciales”\, Anthony Blake comparte diversión\ny pensamientos íntim
 os de las mentes de su audiencia. Él revela historias maravillosamente\nc
 álidas para el corazón y cada momento es increíble.\nEvent link: https:
 //teatroavanti.spaces.nexudus.com/en/events/view/813836086/blake-pensamien
 tos-confidenciales---cía--anthony-blake---viernes-22-marzo--21-00-horas-\
 n
DTEND;TZID=Europe/Paris:20190322T230000
DTSTAMP:20260422T133433Z
DTSTART;TZID=Europe/Paris:20190322T210000
LOCATION:Teatro Avanti
SEQUENCE:0
SUMMARY:BLAKE PENSAMIENTOS CONFIDENCIALES - CÍA. ANTHONY BLAKE - Viernes 2
 2 Marzo (21:00 HORAS)
UID:975d3d7e-972c-4a43-b5ba-203899cff477
END:VEVENT
END:VCALENDAR
