BEGIN:VCALENDAR
PRODID:Nexudus
VERSION:2.0
BEGIN:VTIMEZONE
TZID:Europe/Paris
X-LIC-LOCATION:Europe/Paris
BEGIN:STANDARD
DTSTART:20241027T030000
RRULE:FREQ=YEARLY;BYDAY=-1SU;BYMONTH=10
TZNAME:CET
TZOFFSETFROM:+0200
TZOFFSETTO:+0100
END:STANDARD
BEGIN:DAYLIGHT
DTSTART:20250330T020000
RRULE:FREQ=YEARLY;BYDAY=-1SU;BYMONTH=3
TZNAME:CEST
TZOFFSETFROM:+0100
TZOFFSETTO:+0200
END:DAYLIGHT
END:VTIMEZONE
BEGIN:VEVENT
DESCRIPTION:"Hace mucho tiempo\, una fría noche de invierno una anciana va
 gabunda llamó a las puertas de palacio…” Así se inicia esta adaptaci
 ón del cuento clásico que nos propone Jabetín. Una historia con persona
 jes sorprendentes que en tono de comedia harán disfrutar a toda la famili
 a por su ingenio\, sensibilidad y su excelente puesta en escena.\nEvent li
 nk: https://teatroavanti.spaces.nexudus.com/en/events/view/1415000116/bell
 a-y-bestia---jabetin-teatro---domingo-20-marzo--12-00-h--público-familiar
 \n
DTEND;TZID=Europe/Paris:20220320T190000
DTSTAMP:20260421T172157Z
DTSTART;TZID=Europe/Paris:20220320T120000
LOCATION:Teatro Avanti
SEQUENCE:0
SUMMARY:BELLA Y BESTIA - Jabetin Teatro - Domingo 20 Marzo (12:00 h) Públi
 co Familiar
UID:af8a2585-f945-4249-a2b6-6e2079d00787
END:VEVENT
END:VCALENDAR
