BEGIN:VCALENDAR
PRODID:Nexudus
VERSION:2.0
BEGIN:VTIMEZONE
TZID:Europe/Paris
X-LIC-LOCATION:Europe/Paris
BEGIN:STANDARD
DTSTART:20241027T030000
RRULE:FREQ=YEARLY;BYDAY=-1SU;BYMONTH=10
TZNAME:CET
TZOFFSETFROM:+0200
TZOFFSETTO:+0100
END:STANDARD
BEGIN:DAYLIGHT
DTSTART:20250330T020000
RRULE:FREQ=YEARLY;BYDAY=-1SU;BYMONTH=3
TZNAME:CEST
TZOFFSETFROM:+0100
TZOFFSETTO:+0200
END:DAYLIGHT
END:VTIMEZONE
BEGIN:VEVENT
DESCRIPTION:‘BELLA El Musical’\, un espectáculo basado en un cuento po
 pular ‘La Bella y la\nBestia’\, adaptada para el público familiar en 
 el que te puedes adentrar en la\nfábula\, la emoción\, la risa y hasta c
 antar. Un musical con 10 voces en directo \,\ncoreografías y vestuarios c
 uidadísimos... junto a la historia de amor más entrañable\njamás conta
 da.\nEvent link: https://teatroavanti.spaces.nexudus.com/en/events/view/78
 0815038/bella-el-musical---cía--bayaderas---domingo-20-enero--12-00-y-18-
 00-h-\n
DTEND;TZID=Europe/Paris:20190120T190000
DTSTAMP:20260422T151047Z
DTSTART;TZID=Europe/Paris:20190120T120000
LOCATION:Teatro Avanti
SEQUENCE:0
SUMMARY:Bella el musical - Cía: Bayaderas - Domingo 20 Enero (12:00 y 18:0
 0 h)
UID:07f73b33-bce6-4458-9ca3-0104e1068f20
END:VEVENT
END:VCALENDAR
