BEGIN:VCALENDAR
PRODID:Nexudus
VERSION:2.0
BEGIN:VTIMEZONE
TZID:Europe/Paris
X-LIC-LOCATION:Europe/Paris
BEGIN:STANDARD
DTSTART:20241027T030000
RRULE:FREQ=YEARLY;BYDAY=-1SU;BYMONTH=10
TZNAME:CET
TZOFFSETFROM:+0200
TZOFFSETTO:+0100
END:STANDARD
BEGIN:DAYLIGHT
DTSTART:20250330T020000
RRULE:FREQ=YEARLY;BYDAY=-1SU;BYMONTH=3
TZNAME:CEST
TZOFFSETFROM:+0100
TZOFFSETTO:+0200
END:DAYLIGHT
END:VTIMEZONE
BEGIN:VEVENT
DESCRIPTION:Lo que diferencia a “Los Taps" de otros artistas parecidos es
 \nsu estilo personal . Lo normal es que los magos complementen sus actos\n
 con sus “glamurosas" asistentes\, en cambio aquí\,Juanjo se esfuerza po
 r\nhacer un show perfecto y mostrar al público lo mejor de sus habilidade
 s\,\nmientras su “ayudante “Marijou muestra un completo desinterés po
 r\nayudarle.\n\nEvent link: https://teatroavanti.spaces.nexudus.com/en/eve
 nts/view/721458756/bam---bam--cía--los-taps---domingo-11-noviembre--12-00
 -y-18-00-h-\n
DTEND;TZID=Europe/Paris:20181111T190000
DTSTAMP:20260422T165117Z
DTSTART;TZID=Europe/Paris:20181111T120000
LOCATION:Teatro Avanti
SEQUENCE:0
SUMMARY:Bam - Bam -Cía: Los Taps - Domingo 11 Noviembre (12:00 y 18:00 h)
UID:722704e2-f9ee-43be-b084-39d7c9aa8f65
END:VEVENT
END:VCALENDAR
