BEGIN:VCALENDAR
PRODID:Nexudus
VERSION:2.0
BEGIN:VTIMEZONE
TZID:Europe/Paris
X-LIC-LOCATION:Europe/Paris
BEGIN:STANDARD
DTSTART:20241027T030000
RRULE:FREQ=YEARLY;BYDAY=-1SU;BYMONTH=10
TZNAME:CET
TZOFFSETFROM:+0200
TZOFFSETTO:+0100
END:STANDARD
BEGIN:DAYLIGHT
DTSTART:20250330T020000
RRULE:FREQ=YEARLY;BYDAY=-1SU;BYMONTH=3
TZNAME:CEST
TZOFFSETFROM:+0100
TZOFFSETTO:+0200
END:DAYLIGHT
END:VTIMEZONE
BEGIN:VEVENT
DESCRIPTION:Tres mujeres que no se conocen entre sí van a una fiesta. El r
 eclamo es “Viudas y viudos salseros y cañeros” organizado por una pá
 gina web para personas en esa situación. ¿Qué se van e encontrar allí?
  En primer lugar a ellas mismas\, que hace un tiempo que se tenían olvida
 das. Confidencias y mentiras. Rivalidad y cariño. Pequeñas envidias y ad
 miración. Y más de una sorpresa.\n\n\nPrecio entrada venta anticipada en
  taquilla 10 € - El mismo día del espectáculo 12 €\nEvent link: http
 s://teatroavanti.spaces.nexudus.com/en/events/view/1168355192/ballenas-ase
 sinas---cía--maria-casal----sábado-23-noviembre--19-00-y-21-00-h--públi
 co-adulto\n
DTEND;TZID=Europe/Paris:20191123T230000
DTSTAMP:20260422T102620Z
DTSTART;TZID=Europe/Paris:20191123T210000
LOCATION:Teatro Avanti
SEQUENCE:0
SUMMARY:Ballenas asesinas - Cía: Maria Casal  - Sábado 23 Noviembre (19:0
 0 y 21:00 h) Público Adulto
UID:3a5bd8ab-3dc8-4b2e-b5ef-9ffe788ef8f2
END:VEVENT
END:VCALENDAR
