BEGIN:VCALENDAR
PRODID:Nexudus
VERSION:2.0
BEGIN:VTIMEZONE
TZID:Europe/Paris
X-LIC-LOCATION:Europe/Paris
BEGIN:STANDARD
DTSTART:20241027T030000
RRULE:FREQ=YEARLY;BYDAY=-1SU;BYMONTH=10
TZNAME:CET
TZOFFSETFROM:+0200
TZOFFSETTO:+0100
END:STANDARD
BEGIN:DAYLIGHT
DTSTART:20250330T020000
RRULE:FREQ=YEARLY;BYDAY=-1SU;BYMONTH=3
TZNAME:CEST
TZOFFSETFROM:+0100
TZOFFSETTO:+0200
END:DAYLIGHT
END:VTIMEZONE
BEGIN:VEVENT
DESCRIPTION:El espectáculo trata de mezclar entre otros\, cuatro tipos de 
 cante andaluz\nde manera simultánea. Empezando con la Copla-Remedios Cast
 ro: Finalista\nen Se llama Copla y concursante de La Voz-. Carnaval -Fali 
 Vila: 30 años\nde carnaval a sus espaldas con 6 premios al mejor contraal
 to- Sevillanas\n-Carolina Garrido: una joven promesa con una voz que llega
  al corazón-.\nFlamenco -Raúl Núñez: Casta gitana y cordobéspor los c
 uatro costados-\, nos\ndeleitarán un espectáculo exclusivo.\nEvent link:
  https://teatroavanti.spaces.nexudus.com/en/events/view/448572237/andaluci
 a-canta---viernes-22-septiembre---21-00-h---todos-los-públicos-\n
DTEND;TZID=Europe/Paris:20170922T230000
DTSTAMP:20260422T225544Z
DTSTART;TZID=Europe/Paris:20170922T210000
LOCATION:Teatro Avanti
SEQUENCE:0
SUMMARY:Andalucia Canta. (Viernes 22 Septiembre - 21:00 h.) Todos los públ
 icos.
UID:ae623fde-f99a-4951-be6f-85c8ac1d770c
END:VEVENT
END:VCALENDAR
