BEGIN:VCALENDAR
PRODID:Nexudus
VERSION:2.0
BEGIN:VTIMEZONE
TZID:Europe/Paris
X-LIC-LOCATION:Europe/Paris
BEGIN:STANDARD
DTSTART:20241027T030000
RRULE:FREQ=YEARLY;BYDAY=-1SU;BYMONTH=10
TZNAME:CET
TZOFFSETFROM:+0200
TZOFFSETTO:+0100
END:STANDARD
BEGIN:DAYLIGHT
DTSTART:20250330T020000
RRULE:FREQ=YEARLY;BYDAY=-1SU;BYMONTH=3
TZNAME:CEST
TZOFFSETFROM:+0100
TZOFFSETTO:+0200
END:DAYLIGHT
END:VTIMEZONE
BEGIN:VEVENT
DESCRIPTION:Como una conversación intensa... pero sin palabras. “Almas
 ” que se unen\npara dejar fluir una visión compartida trazando caminos 
 de unión a través\ndel movimiento... Caminando juntas desde su propia in
 timidad\npara encontrarse en la complicidad y descubrimiento del otro cuer
 po.\nObra de danza aérea y contemporánea.\nEvent link: https://teatroava
 nti.spaces.nexudus.com/en/events/view/1390483098/almas-----de-bailarina--s
 ábado-24-octubre--21-00-h---todos-los-públicos-\n
DTEND;TZID=Europe/Paris:20201024T221500
DTSTAMP:20260422T055103Z
DTSTART;TZID=Europe/Paris:20201024T210000
LOCATION:Teatro Avanti
SEQUENCE:0
SUMMARY:Almas ... de bailarina. Sábado 24 Octubre (21:00 h). Todos los pú
 blicos.
UID:7068222c-8e36-4337-b685-3c30c5b52ac4
END:VEVENT
END:VCALENDAR
