BEGIN:VCALENDAR
PRODID:Nexudus
VERSION:2.0
BEGIN:VTIMEZONE
TZID:Europe/Paris
X-LIC-LOCATION:Europe/Paris
BEGIN:STANDARD
DTSTART:20241027T030000
RRULE:FREQ=YEARLY;BYDAY=-1SU;BYMONTH=10
TZNAME:CET
TZOFFSETFROM:+0200
TZOFFSETTO:+0100
END:STANDARD
BEGIN:DAYLIGHT
DTSTART:20250330T020000
RRULE:FREQ=YEARLY;BYDAY=-1SU;BYMONTH=3
TZNAME:CEST
TZOFFSETFROM:+0100
TZOFFSETTO:+0200
END:DAYLIGHT
END:VTIMEZONE
BEGIN:VEVENT
DESCRIPTION:Blake propone un espectáculo cercano e interactivo\, en el que
  el mago\nde la mente deja que el espectador marque el ritmo de los tiempo
 s. El\nclima es intimista y misterioso y utiliza para envolver al público
  una música\ninquietante y una voz muy especial\, que alimentan la fantas
 ía de los\nespectadores.\nEvent link: https://teatroavanti.spaces.nexudus
 .com/en/events/view/575849277/allá-de-la-imaginación---anthony-blake---s
 ábado-9-junio--ultimas-localidades--venta-exclusiva-en-taquilla--precio-1
 8-\n
DTEND;TZID=Europe/Paris:20180609T230000
DTSTAMP:20260422T182821Z
DTSTART;TZID=Europe/Paris:20180609T210000
LOCATION:Teatro Avanti
SEQUENCE:0
SUMMARY:+ Allá de la Imaginación - Anthony Blake . Sábado 9 Junio. ULTIM
 AS LOCALIDADES. VENTA EXCLUSIVA EN TAQUILLA. PRECIO 18€
UID:56b0ac7c-5029-4ab2-ad83-a897855116b5
END:VEVENT
END:VCALENDAR
