BEGIN:VCALENDAR
PRODID:Nexudus
VERSION:2.0
BEGIN:VTIMEZONE
TZID:Europe/Paris
X-LIC-LOCATION:Europe/Paris
BEGIN:STANDARD
DTSTART:20241027T030000
RRULE:FREQ=YEARLY;BYDAY=-1SU;BYMONTH=10
TZNAME:CET
TZOFFSETFROM:+0200
TZOFFSETTO:+0100
END:STANDARD
BEGIN:DAYLIGHT
DTSTART:20250330T020000
RRULE:FREQ=YEARLY;BYDAY=-1SU;BYMONTH=3
TZNAME:CEST
TZOFFSETFROM:+0100
TZOFFSETTO:+0200
END:DAYLIGHT
END:VTIMEZONE
BEGIN:VEVENT
DESCRIPTION:La diversión está prohibida en El País de las Maravillas por
  la malvada Reina de Corazones. Alarmados\, el Gato Risón y El Conejo Bla
 nco\, traerán\nde vuelta a la única persona que es capaz de hacer que el
  reloj de la Muchosidad vuelva a funcionar: Alicia\, la de las maravillas.
 \nLa amistad\, la responsabilidad\, el altruismo… de mano de los persona
 jes icónicos El sombrerero Loco\, La Reina de Corazones\, el Conejo Blanc
 o o El Gato Risón nos llevan por todo este viaje lleno de luz\, color y c
 anciones inspiradas en los grandes clásicos de la música.\nEvent link: h
 ttps://teatroavanti.spaces.nexudus.com/en/events/view/512618118/alicia--el
 -regreso-al-pais-de-las-maravillas---domingo-21-enero--12-00-h-y-18-00-h--
 --público-familiar-\n
DTEND;TZID=Europe/Paris:20180121T200000
DTSTAMP:20260422T200745Z
DTSTART;TZID=Europe/Paris:20180121T120000
LOCATION:Teatro Avanti
SEQUENCE:0
SUMMARY:Alicia\, el regreso al Pais de las Maravillas - Domingo 21 Enero (1
 2:00 h y 18:00 h) - Público Familiar.
UID:2f140817-a668-473a-9692-9d45f05978ef
END:VEVENT
END:VCALENDAR
