BEGIN:VCALENDAR
PRODID:Nexudus
VERSION:2.0
BEGIN:VTIMEZONE
TZID:Europe/Paris
X-LIC-LOCATION:Europe/Paris
BEGIN:STANDARD
DTSTART:20241027T030000
RRULE:FREQ=YEARLY;BYDAY=-1SU;BYMONTH=10
TZNAME:CET
TZOFFSETFROM:+0200
TZOFFSETTO:+0100
END:STANDARD
BEGIN:DAYLIGHT
DTSTART:20250330T020000
RRULE:FREQ=YEARLY;BYDAY=-1SU;BYMONTH=3
TZNAME:CEST
TZOFFSETFROM:+0100
TZOFFSETTO:+0200
END:DAYLIGHT
END:VTIMEZONE
BEGIN:VEVENT
DESCRIPTION:Una obra de danza donde la confluencia de los colores\, la poes
 ía de las imágenes y la individualidad de las bailarinas\, juegan un pap
 el imprescindible para que el público se vea inmerso en "el particular mu
 ndo de danza" de las intérpretes...\n*Corazón\, alma\, mente\, voluntad:
  significado de la palabra que da título a la obra "AA'IN" del idioma way
 uunaiki.\nEvent link: https://teatroavanti.spaces.nexudus.com/en/events/vi
 ew/1414958696/aa-in--eva-panadero---sábado-23-octubre---21-00-h----todos-
 los-públicos-\n
DTEND;TZID=Europe/Paris:20211023T220000
DTSTAMP:20260421T221542Z
DTSTART;TZID=Europe/Paris:20211023T210000
LOCATION:Teatro Avanti
SEQUENCE:0
SUMMARY:AA´IN -Eva Panadero - Sábado 23 Octubre  (21:00 h )  Todos los P
 úblicos. 
UID:d8dcbcc3-18ee-4357-97d0-eb34dda37788
END:VEVENT
END:VCALENDAR
