BEGIN:VCALENDAR
PRODID:Nexudus
VERSION:2.0
BEGIN:VTIMEZONE
TZID:Europe/Paris
X-LIC-LOCATION:Europe/Paris
BEGIN:STANDARD
DTSTART:20241027T030000
RRULE:FREQ=YEARLY;BYDAY=-1SU;BYMONTH=10
TZNAME:CET
TZOFFSETFROM:+0200
TZOFFSETTO:+0100
END:STANDARD
BEGIN:DAYLIGHT
DTSTART:20250330T020000
RRULE:FREQ=YEARLY;BYDAY=-1SU;BYMONTH=3
TZNAME:CEST
TZOFFSETFROM:+0100
TZOFFSETTO:+0200
END:DAYLIGHT
END:VTIMEZONE
BEGIN:VEVENT
DESCRIPTION:¡Las dos psicólogas top de nuestro país se suben al escenari
 o!\nSilvia Congost y Patricia Ramírez presentan su nuevo proyecto conjunt
 o... ¡en el TEATRO!\n\nLlevar bien una relación de pareja es mucho más 
 sencillo de lo que creemos. Sí\, sí\, lo has leído bien: FÁCIL. Sin em
 bargo\, no siempre lo conseguimos y esa facilidad parece que la tenemos ma
 s bien para cargarnos la relación. Silvia Congost y Patricia Ramírez\, l
 as dos psicólogas de referencia en nuestro país\, nos ayudarán a identi
 ficar qué hacemos mal en el día a día con nuestra pareja\, a partir de 
 las vivencias más comunes y con grandes dosis de humor. No te pierdas est
 a función\, porque aún estás a tiempo de no cargarte la tuya (¡y saldr
 ás con soluciones!)\, y si vienes sin pareja… ¡puede que incluso salga
 s con una!\n\nPrecio entrada venta anticipada en taquilla 15 € - El mism
 o día del espectáculo 18 €\nEvent link: https://teatroavanti.spaces.ne
 xudus.com/en/events/view/1106170147/10-maneras-de-cargarte-tu-relacion-de-
 pareja--viernes-4-y-sábado-5-octubre--21-00-h----publico-adulto-\n
DTEND;TZID=Europe/Paris:20191005T220000
DTSTAMP:20260422T102443Z
DTSTART;TZID=Europe/Paris:20191004T210000
LOCATION:Teatro Avanti
SEQUENCE:0
SUMMARY:10 MANERAS DE CARGARTE TU RELACION DE PAREJA. Viernes 4 y Sábado 5
  Octubre (21:00 h ). Publico Adulto.
UID:759c2cd9-395e-4cd0-bbfa-439454699ec6
END:VEVENT
END:VCALENDAR
