BEGIN:VCALENDAR
PRODID:Nexudus
VERSION:2.0
BEGIN:VTIMEZONE
TZID:Europe/Paris
X-LIC-LOCATION:Europe/Paris
BEGIN:STANDARD
DTSTART:20241027T030000
RRULE:FREQ=YEARLY;BYDAY=-1SU;BYMONTH=10
TZNAME:CET
TZOFFSETFROM:+0200
TZOFFSETTO:+0100
END:STANDARD
BEGIN:DAYLIGHT
DTSTART:20250330T020000
RRULE:FREQ=YEARLY;BYDAY=-1SU;BYMONTH=3
TZNAME:CEST
TZOFFSETFROM:+0100
TZOFFSETTO:+0200
END:DAYLIGHT
END:VTIMEZONE
BEGIN:VEVENT
DESCRIPTION:Francis Zafrilla irradia felicidad y se transforma en Mr. Happy
 ! para llenarlo todo de locuras trepidantes y fantasías sorprendentes.\nE
 l resultado es un show que reúne multitud de disciplinas como la música 
 en directo\, ventriloquía y\, como no\, la Magia. Disciplinas que Mr. Hap
 py… ¡no domina ni por casualidad! Pero al menos lo intenta creando situ
 aciones disparatadas y generando una comedia familiar\ndiferente y distint
 a a todo lo que hayas visto hasta el momento.\nEvent link: https://teatroa
 vanti.spaces.nexudus.com/en/events/view/1398995616/-mr--happy---mago-franc
 is-zafrilla---domingo-8-noviembre--12-00-h--público-familiar-\n
DTEND;TZID=Europe/Paris:20201108T180000
DTSTAMP:20260422T055318Z
DTSTART;TZID=Europe/Paris:20201108T120000
LOCATION:Teatro Avanti
SEQUENCE:0
SUMMARY:“MR. HAPPY”. Mago Francis Zafrilla - Domingo 8 Noviembre (12:00
  h) Público Familiar.
UID:60fc5291-0ee9-40ab-b160-11267e4dbe76
END:VEVENT
END:VCALENDAR
