BEGIN:VCALENDAR
PRODID:Nexudus
VERSION:2.0
BEGIN:VTIMEZONE
TZID:Europe/Paris
X-LIC-LOCATION:Europe/Paris
BEGIN:STANDARD
DTSTART:20241027T030000
RRULE:FREQ=YEARLY;BYDAY=-1SU;BYMONTH=10
TZNAME:CET
TZOFFSETFROM:+0200
TZOFFSETTO:+0100
END:STANDARD
BEGIN:DAYLIGHT
DTSTART:20250330T020000
RRULE:FREQ=YEARLY;BYDAY=-1SU;BYMONTH=3
TZNAME:CEST
TZOFFSETFROM:+0100
TZOFFSETTO:+0200
END:DAYLIGHT
END:VTIMEZONE
BEGIN:VEVENT
DESCRIPTION:XII FESTIVAL DE CIRCO DE CÓRDOBA\n¡Lucha! es un viaje donde J
 essie\, como los grandes púgiles\, encaja lo que el\ndestino le pone por 
 delante. Hay buenas y malas noticias\, pero todas forman\nparte del juego\
 ; eso sí\, sus excentricidades le llevarán a darse más de un\ngolpe\, u
 n tropezón o una aparatosa caída.\nEvent link: https://teatroavanti.spac
 es.nexudus.com/en/events/view/471393982/-lucha---domingo-19noviembre--18-0
 0-horas---todos-los-públicos-\n
DTEND;TZID=Europe/Paris:20171119T200000
DTSTAMP:20260422T200353Z
DTSTART;TZID=Europe/Paris:20171119T180000
LOCATION:Teatro Avanti
SEQUENCE:0
SUMMARY:¡Lucha!. Domingo 19NOVIEMBRE (18:00 horas). Todos los públicos.
UID:a586615b-0b2d-415e-8658-38d98e76925f
END:VEVENT
END:VCALENDAR
